BEGIN:VCALENDAR
VERSION:2.0
PRODID:-// - ECPv6.15.20//NONSGML v1.0//EN
CALSCALE:GREGORIAN
METHOD:PUBLISH
X-ORIGINAL-URL:https://echoeventslanercost.co.uk
X-WR-CALDESC:Events for 
REFRESH-INTERVAL;VALUE=DURATION:PT1H
X-Robots-Tag:noindex
X-PUBLISHED-TTL:PT1H
BEGIN:VTIMEZONE
TZID:UTC
BEGIN:STANDARD
TZOFFSETFROM:+0000
TZOFFSETTO:+0000
TZNAME:UTC
DTSTART:20240101T000000
END:STANDARD
END:VTIMEZONE
BEGIN:VEVENT
DTSTART;TZID=UTC:20250623T183000
DTEND;TZID=UTC:20250623T213000
DTSTAMP:20260425T193908
CREATED:20250608T131546Z
LAST-MODIFIED:20250613T170826Z
UID:637-1750703400-1750714200@echoeventslanercost.co.uk
SUMMARY:SpeakEasy at Echo Festival Lanercost
DESCRIPTION:SpeakEasy is an activity organised and run by Carlisle-based writer/musician/publisher/actor/filmmaker Phil Hewitson. It takes place both online and as a ‘gathered’ event\, and Phil has been invited to bring it to Lanercost for the Echo festival. SpeakEasy is staged for the pleasure and artistic stimulation of those who participate. People of a creative frame of mind and body get together to share their creations\, so performers and audience merge. Members of the group will gather on Monday 23th June in the marquee on the cricket field and welcome all and sundry to sample their wares\, either as audience or to take part. This is a free event! \nhttps://www.facebook.com/groups/1458436297731828/about?locale=en_GB
URL:https://echoeventslanercost.co.uk/event/speakeasy-at-echo-festival-lanercost/
LOCATION:The Cricket Club\, Lanercost Sports Club\, Brampton\, Cumbria\, CA8 2HL
CATEGORIES:Poetry,Spoken Word
ATTACH;FMTTYPE=image/jpeg:https://echoeventslanercost.co.uk/wp-content/uploads/2025/06/SpeakEasy-at-Echo-Fest-2025-a-scaled.jpg
END:VEVENT
END:VCALENDAR