BEGIN:VCALENDAR
VERSION:2.0
PRODID:-// - ECPv6.15.20//NONSGML v1.0//EN
CALSCALE:GREGORIAN
METHOD:PUBLISH
X-ORIGINAL-URL:https://echoeventslanercost.co.uk
X-WR-CALDESC:Events for 
REFRESH-INTERVAL;VALUE=DURATION:PT1H
X-Robots-Tag:noindex
X-PUBLISHED-TTL:PT1H
BEGIN:VTIMEZONE
TZID:UTC
BEGIN:STANDARD
TZOFFSETFROM:+0000
TZOFFSETTO:+0000
TZNAME:UTC
DTSTART:20250101T000000
END:STANDARD
END:VTIMEZONE
BEGIN:VEVENT
DTSTART;TZID=UTC:20260619T170000
DTEND;TZID=UTC:20260628T160000
DTSTAMP:20260425T020013
CREATED:20260318T161855Z
LAST-MODIFIED:20260318T161855Z
UID:750-1781888400-1782662400@echoeventslanercost.co.uk
SUMMARY:Echo Festival Lanercost 2026
DESCRIPTION:This June\, Echo Events Lanercost CIC welcomes you back to Lanercost for a warm\, intimate\, community-focused Echo Festival — a joyful celebration of local creativity\, heritage\, and togetherness. \nTaking place from 19–28 June\, this year’s festival embraces a relaxed village atmosphere\, creating welcoming spaces where people can gather\, share experiences\, and celebrate community life. \n Festival Highlights Include: \n“Communities Unearthed” — A Special Photography Exhibition\nHosted in Dacre Hall\, this thoughtfully curated exhibition showcases striking images celebrating local life\, landscape\, and heritage — capturing the spirit and stories of our community through the lens. \n Chances to dance\, sing\, and make merry with informal performances and shared musical moments\n Delicious festival food freshly prepared by Echo Eats\, bringing people together around great local flavours\nCreative workshops and activities where you can make\, create\, and try something new\nOpportunities to support local artists and makers\, celebrating the talent within our community \nEcho Festival remains rooted in what matters most — community spirit\, creative expression\, and meaningful shared experiences. \n 19–28 June\nLanercost \n Full programme of events coming soon — save the date!\nCome and join us for some midsummer fun here in Lanercost. \n  \n\n			\n				\n			\n			\n				\n			\n			\n				\n			\n			\n				\n			\n			\n				\n			\n			\n				\n			\n			\n				\n			\n			\n				\n			\n			\n				\n			\n			\n				\n			\n			\n				\n			\n			\n				\n			\n			\n				\n			\n			\n				\n			\n		\n\nCommunity • Creativity • Connection\nCome along. Take part. Feel the echo.
URL:https://echoeventslanercost.co.uk/event/echo-festival-lanercost-2026/
END:VEVENT
END:VCALENDAR